Workbook

Sheet Текст

Sheet Приложение 1
A1: Приложение 1
A2: к бюджету муниципального образования
A3: Новоюласенский сельсовет
A4: на 2026 год и плановый период
A5: 2027 и 2028 годов
A6: № от .12.2025 г
A9: Источники внутреннего финансирования дефицита бюджета поселения
A10: на 2026 год и плановый период 2027 и 2028 годов
A12: (тыс. рублей)
A13: Наименование показателя | B13: Наименование | C13: Утвержденные бюджетные назначения
C14: 2026 год | D14: 2027 год | E14: 2028 год
A15: 1 | B15: 2 | C15: 3 | D15: 4 | E15: 5
A16: ИСТОЧНИКИ ВНУТРЕННЕГО ФИНАНСИРОВАНИЯ ДЕФИЦИТОВ БЮДЖЕТОВ | B16: 01 00 00 00 00 0000 000
A17: Изменение остатков средств на счетах по учету средств бюджета | B17: 01 05 00 00 00 0000 000 | C17: =C18+C22 -> 0 | D17: =D18+D22 -> 0 | E17: =E18+E22 -> 0
A18: Увеличение остатков средств бюджетов | B18: 01 05 00 00 00 0000 500 | C18: =-'Приложение 2'!C64 -> -4872.9 | D18: =-'Приложение 2'!D64 -> -5010.6 | E18: =-'Приложение 2'!E64 -> -5158.4
A19: Увеличение прочих остатков средств бюджетов | B19: 01 05 02 00 00 0000 500 | C19: =C18 -> -4872.9 | D19: =D18 -> -5010.6 | E19: =E18 -> -5158.4
A20: Увеличение прочих остатков денежных средств бюджетов | B20: 01 05 02 01 00 0000 510 | C20: =C18 -> -4872.9 | D20: =D18 -> -5010.6 | E20: =E18 -> -5158.4
A21: Увеличение прочих остатков денежных средств бюджетов сельских поселений | B21: 01 05 02 01 10 0000 510 | C21: =C18 -> -4872.9 | D21: =D18 -> -5010.6 | E21: =E18 -> -5158.4
A22: Уменьшение остатков средств бюджетов | B22: 01 05 00 00 00 0000 600 | C22: ='Приложение 4'!G104 -> 4872.9 | D22: ='Приложение 4'!H104 -> 5010.6 | E22: ='Приложение 4'!I104 -> 5158.4
A23: Уменьшение прочих остатков средств бюджетов | B23: 01 05 02 00 00 0000 600 | C23: =C22 -> 4872.9 | D23: =D22 -> 5010.6 | E23: =E22 -> 5158.4
A24: Уменьшение прочих остатков денежных средств бюджетов | B24: 01 05 02 01 00 0000 610 | C24: =C22 -> 4872.9 | D24: =D22 -> 5010.6 | E24: =E22 -> 5158.4
A25: Уменьшение прочих остатков денежных средств бюджетов сельских поселений | B25: 01 05 02 01 10 0000 610 | C25: =C22 -> 4872.9 | D25: =D22 -> 5010.6 | E25: =E22 -> 5158.4
A26: Всего источников финансирования дефицитов бюджетов | C26: =C17 -> 0 | D26: =D17 -> 0 | E26: =E17 -> 0

Sheet Приложение 
A1: Приложение 2
A2: к бюджету муниципального образования
A3: Новоюласенский сельсовет на 2021 год
A4: и плановый период 2022 и 2023 годов
A6: Перечень главных администраторов доходов бюджета поселения
A7: на 2021 год и плановый период 2022 и 2023 годов
A9: Код бюджетной классификации Российской Федерации | C9: Наименование администратора доходов бюджета поселения
A10: Адми нистра тора дохо дов | B10: доходов бюджета поселения
A14: 1 | B14: 2 | C14: 3
C15: Администрация муниципального образования Новоюласенский сельсовет
A16: 018 | B16: 1 08 04020 01 0000 110 | C16: Государственная пошлина за совершение нотариальных действий должностными лицами органов местного самоуправления, уполномоченными в соответствии с законодательными актами Российской Федерации на совершение нотариальных действий
A17: 018 | B17: 1 11 05025 10 0000 120 | C17: Доходы, получаемые в виде арендной платы, а также средства от продажи права на заключение договоров аренды за земли, находящиеся в собственности сельских поселений (за исключением земельных участков муниципальных бюджетных и автономных учреждений)
A18: 018 | B18: 1 11 05035 10 0000 120 | C18: Доходы от сдачи в аренду имущества, находящегося в оперативном управлении органов управления сельских поселений и созданных ими учреждений (за исключением имущества муниципальных бюджетных и автономных учреждений)
A19: 018 | B19: 1 11 07015 10 0000 120 | C19: Доходы от перечисления части прибыли, остающейся после уплаты налогов и иных обязательных платежей муниципальных унитарных предприятий, созданных сельскими поселениями
A20: 018 | B20: 1 13 01995 10 0000 130 | C20: Прочие доходы от оказания платных услуг (работ) получателями средств бюджетов сельских поселений
A21: 018 | B21: 1 13 02065 10 0000 130 | C21: Доходы, поступающие в порядке возмещения расходов, понесенных в связи с эксплуатацией имущества сельских поселений
A22: 018 | B22: 1 13 02995 10 0000 130 | C22: Прочие доходы от компенсации затрат бюджетов сельских поселений
A23: 018 | B23: 1 14 02052 10 0000 410 | C23: Доходы от реализации имущества, находящегося в оперативном управлении учреждений, находящихся в ведении органов управления сельских поселений (за исключением имущества муниципальных бюджетных и автономных учреждений), в части реализации основных средств по указанному имуществу
A24: 018 | B24: 1 14 02052 10 0000 440 | C24: Доходы от реализации имущества, находящегося в оперативном управлении учреждений, находящихся в ведении органов управления сельских поселений (за исключением имущества муниципальных бюджетных и автономных учреждений), в части реализации материальных запасов по указанному имуществу
A25: 018 | B25: 1 14 02053 10 0000 410 | C25: Доходы от реализации иного имущества, находящегося в собственности сельских поселений (за исключением имущества муниципальных бюджетных и автономных учреждений, а также имущества муниципальных унитарных предприятий, в том числе казенных), в части реализации основных средств по указанному имуществу
A26: 018 | B26: 1 14 02053 10 0000 440 | C26: Доходы от реализации иного имущества, находящегося в собственности сельских поселений (за исключением имущества муниципальных бюджетных и автономных учреждений, а также имущества муниципальных унитарных предприятий, в том числе казенных), в части реализации материальных запасов по указанному имуществу
A27: 018 | B27: 1 14 06025 10 0000 430 | C27: Доходы от продажи земельных участков, находящихся в собственности сельских поселений (за исключением земельных участков муниципальных бюджетных и автономных учреждений)
... A52: 018 | B52: 2 19 60010 10 0000 150 | C52: Возврат прочих остатков субсидий, субвенций и иных межбюджетных трансфертов, имеющих целевое назначение, прошлых лет из бюджетов сельских поселений
C53: Финансовый отдел администрации
C54: Красногвардейского района
A55: 012 | B55: 1 17 01050 10 0000 180 | C55: Невыясненные поступления, зачисляемые в бюджеты сельских поселений
A56: 012 | B56: 2 08 05000 10 0000 150 | C56: Перечисления из бюджетов сельских поселений (в бюджеты поселений) для осуществления возврата (зачета) излишне уплаченных или излишне взысканных сумм налогов, сборов и иных платежей, а также сумм процентов за несвоевременное осуществление такого возврата и процентов, начисленных на излишне взысканные суммы

Sheet Приложение
A1: Приложение 3
A2: к бюджету муниципального образования
A3: Новоюласенский сельсовет на 2021 год
A4: и плановый период 2022 и 2023 годов
A9: Перечень главных администраторов источников финансирования
A10: дефицита бюджета поселения на 2021 год и плановый период 2022 и 2023 годов
A12: Код главы | B12: Код группы, подгруппы, статьи и вида источников | C12: Наименование
A14: 1 | B14: 2 | C14: 3
C15: Администрация муниципального образования Новоюласенский сельсовет
A16: 018 | B16: 01 05 02 01 10 0000 510 | C16: Увеличение прочих остатков денежных средств бюджетов сельских поселений
A17: 018 | B17: 01 05 02 01 10 0000 610 | C17: Уменьшение прочих остатков денежных средств бюджетов сельских поселений

Sheet Приложение 2
A1: Приложение 2
A2: к бюджету муниципального образования
A3: Новоюласенский сельсовет на 2026 год
A4: и плановый период 2027 и 2028 годов
A5: № от .12.2025 г
A6: Поступление доходов в бюджет поселения по кодам видов доходов,
A7: подвидов доходов на 2026 год и плановый период 2027 и 2028 годов
A9: (тысяч рублей)
A10: Код бюджетной классификации Российской федерации | B10: Наименование кода дохода бюджета | C10: 2026год | D10: 2027 год | E10: 2028 год
A13: 1 | B13: 2 | C13: 3 | D13: 4 | E13: 5
A14: 1 00 00000 00 0000 000 | B14: Налоговые и неналоговые доходы | C14: =C15+C20+C30+C33+C39+C42+C48 -> 2531.6 | D14: =D15+D20+D30+D33+D39+D42 -> 2776.1 | E14: =E15+E20+E30+E33+E39+E42 -> 2857
A15: 1 01 00000 00 0000 000 | B15: Налоги на прибыль, доходы | C15: =C16 -> 418 | D15: =D16 -> 430 | E15: =E16 -> 451
A16: 1 01 02000 01 0000 110 | B16: Налог на доходы физических лиц | C16: =C19+C17+C18 -> 418 | D16: =D19+D17+D18 -> 430 | E16: =E19+E17+E18 -> 451
A17: 1 01 02010 01 0000 110 | B17: Налог на доходы физических лиц с доходов, источником которых является налоговый агент, за исключением доходов, в отношении которых исчисление и уплата налога осуществляются в соответствии со статьями 227, 227.1 и 228 Налогового кодекса Российской Федерации, а также доходов от долевого участия в организации, полученных физическим лицом - налоговым резидентом Российской Федерации в виде дивидендов (в части суммы налога, не превышающей 650 тысяч рублей за налоговые периоды до 1 января 2025 года, а также в части суммы налога, не превышающей 312 тысяч рублей за налоговые периоды после 1 января 2025 года), а также налог на доходы физических лиц в отношении доходов от долевого участия в организации, полученных физическим лицом, не являющимся налоговым резидентом Российской Федерации, в виде дивидендов | C17: 341 | D17: 351 | E17: 369
A18: 1 01 02030 01 0000 110 | B18: Налог на доходы физических лиц с доходов, полученных физическими лицами в соответствии со статьей 228 Налогового кодекса Российской Федерации (за исключением доходов от долевого участия в организации, полученных физическим лицом - налоговым резидентом Российской Федерации в виде дивидендов) (в части суммы налога, не превышающей 650 тысяч рублей за налоговые периоды до 1 января 2025 года, а также в части суммы налога, не превышающей 312 тысяч рублей за налоговые периоды после 1 января 2025 года) | C18: 14 | D18: 14 | E18: 14
A19: 1 01 02210 01 0000 110 | B19: Налог на доходы физических лиц в части суммы налога, относящейся к налоговой базе, указанной в пункте 6.2 статьи 210 Налогового кодекса Российской Федерации, не превышающей 5 миллионов рублей (сумма платежа (перерасчеты, недоимка и задолженность по соответствующему платежу, в том числе по отмененному) | C19: 63 | D19: 65 | E19: 68
A20: 1 03 00000 00 0000 000 | B20: Налоги на товары (работы, услуги), реализуемые на территории Российской Федерации | C20: =C21 -> 847.1 | D20: =D21 -> 1125.9 | E20: =E21 -> 1168.8
A21: 1 03 02000 01 0000 110 | B21: Акцизы по подакцизным товарам (продукции), производимым на территории Российской Федерации | C21: =C23+C25+C27+C29 -> 847.1 | D21: =D23+D25+D27+D29 -> 1125.9 | E21: =E23+E25+E27+E29 -> 1168.8
A22: 1 03 02230 01 0000 110 | B22: Доходы от уплаты акцизов на дизельное топливо, подлежащие распределению между бюджетами субъектов Российской Федерации и местными бюджетами с учетом установленных дифференцированных нормативов отчислений в местные бюджеты | C22: =C23 -> 443.3 | D22: =D23 -> 588.4 | E22: =E23 -> 609.9
A23: 1 03 02231 01 0000 110 | B23: Доходы от уплаты акцизов на дизельное топливо, подлежащие распределению между бюджетами субъектов Российской Федерации и местными бюджетами с учетом установленных дифференцированных нормативов отчислений в местные бюджеты (по нормативам, установленным Федеральным законом о федеральном бюджете в целях формирования дорожных фондов субъектов Российской Федерации) | C23: 443.3 | D23: 588.4 | E23: 609.9
A24: 1 03 02240 01 0000 110 | B24: Доходы от уплаты акцизов на моторные масла для дизельных и (или) карбюраторных (инжекторных) двигателей, подлежащие распределению между бюджетами субъектов Российской Федерации и местными бюджетами с учетом установленных дифференцированных нормативов отчислений в местные бюджеты | C24: =C25 -> 2.1 | D24: =D25 -> 2.9 | E24: =E25 -> 3
A25: 1 03 02241 01 0000 110 | B25: Доходы от уплаты акцизов на моторные масла для дизельных и (или) карбюраторных (инжекторных) двигателей, подлежащие распределению между бюджетами субъектов Российской Федерации и местными бюджетами с учетом установленных дифференцированных нормативов отчислений в местные бюджеты (по нормативам, установленным Федеральным законом о федеральном бюджете в целях формирования дорожных фондов субъектов Российской Федерации) | C25: 2.1 | D25: 2.9 | E25: 3
A26: 1 03 02250 01 0000 110 | B26: Доходы от уплаты акцизов на автомобильный бензин, подлежащие распределению между бюджетами субъектов Российской Федерации и местными бюджетами с учетом установленных дифференцированных нормативов отчислений в местные бюджеты | C26: =C27 -> 428.8 | D26: =D27 -> 569.1 | E26: =E27 -> 590.3
A27: 1 03 02251 01 0000 110 | B27: Доходы от уплаты акцизов на автомобильный бензин, подлежащие распределению между бюджетами субъектов Российской Федерации и местными бюджетами с учетом установленных дифференцированных нормативов отчислений в местные бюджеты (по нормативам, установленным Федеральным законом о федеральном бюджете в целях формирования дорожных фондов субъектов Российской Федерации) | C27: 428.8 | D27: 569.1 | E27: 590.3
A28: 1 03 02260 01 0000 110 | B28: Доходы от уплаты акцизов на прямогонный бензин, подлежащие распределению между бюджетами субъектов Российской Федерации и местными бюджетами с учетом установленных дифференцированных нормативов отчислений в местные бюджеты | C28: =C29 -> -27.1 | D28: =D29 -> -34.5 | E28: =E29 -> -34.4
A29: 1 03 02261 01 0000 110 | B29: Доходы от уплаты акцизов на прямогонный бензин, подлежащие распределению между бюджетами субъектов Российской Федерации и местными бюджетами с учетом установленных дифференцированных нормативов отчислений в местные бюджеты (по нормативам, установленным Федеральным законом о федеральном бюджете в целях формирования дорожных фондов субъектов Российской Федерации) | C29: -27.1 | D29: -34.5 | E29: -34.4
A30: 1 05 00000 00 0000 000 | B30: Налоги на совокупный доход | C30: =C32 -> 929 | D30: =D32 -> 945 | E30: =E32 -> 964
A31: 1 05 03000 01 0000 110 | B31: Единый сельскохозяйственный налог | C31: =C32 -> 929 | D31: =D32 -> 945 | E31: =E32 -> 964
A32: 1 05 03010 01 0000 110 | B32: Единый сельскохозяйственный налог | C32: 929 | D32: 945 | E32: 964
A33: 1 06 00000 00 0000 000 | B33: Налоги на имущество | C33: =C34+C36 -> 200 | D33: =D34+D36 -> 198 | E33: =E34+E36 -> 196
A34: 1 06 01000 00 0000 110 | B34: Налог на имущество физических лиц | C34: =C35 -> 25 | D34: =D35 -> 28 | E34: =E35 -> 30
A35: 1 06 01030 10 0000 110 | B35: Налог на имущество физических лиц, взимаемый по ставкам, применяемым к объектам налогообложения, расположенным в границах сельских поселений | C35: 25 | D35: 28 | E35: 30
A36: 1 06 06000 00 0000 110 | B36: Земельный налог | C36: =C37 -> 175 | D36: =D37 -> 170 | E36: =E37 -> 166
A37: 1 06 06040 00 0000 110 | B37: Земельный налог с физических лиц | C37: =C38 -> 175 | D37: =D38 -> 170 | E37: =E38 -> 166
A38: 1 06 06043 10 0000 110 | B38: Земельный налог с физических лиц, обладающих земельным участком, расположенным в границах сельских поселений | C38: 175 | D38: 170 | E38: 166
A39: 1 08 00000 00 0000 000 | B39: Государственная пошлина | C39: =C40 -> 0.8 | D39: =D40 -> 0.5 | E39: =E40 -> 0.5
A40: 1 08 04000 01 0000 110 | B40: Государственная пошлина за совершение нотариальных действий (за исключением действий, совершаемых консульскими учреждениями Российской Федерации) | C40: =C41 -> 0.8 | D40: =D41 -> 0.5 | E40: =E41 -> 0.5
A41: 1 08 04020 01 0000 110 | B41: Государственная пошлина за совершение нотариальных действий должностными лицами органов местного самоуправления, уполномоченными в соответствии с законодательными актами Российской Федерации на совершение нотариальных действий | C41: 0.8 | D41: 0.5 | E41: 0.5
A42: 1 11 00000 00 0000 000 | B42: Доходы от использования имущества, находящегося в государственной и муниципальной собственности | C42: =C43 -> 76.7 | D42: =D43 -> 76.7 | E42: =E43 -> 76.7
A43: 1 11 05000 00 0000 120 | B43: Доходы, получаемые в виде арендной либо иной платы за передачу в возмездное пользование государственного и муниципального имущества (за исключением имущества бюджетных и автономных учреждений, а также имущества государственных и муниципальных унитарных предприятий, в том числе казенных) | C43: =C44+C46 -> 76.7 | D43: =D44+D46 -> 76.7 | E43: =E44+E46 -> 76.7
...

Sheet Приложение 3
A1: Приложение № 3
A2: к бюджету муниципального образования
A3: Новоюласенский сельсовет на 2026год
A4: и плановый период 2027 и 2028 годов
A5: № от .12.2025 г
A7: Распределение бюджетных ассигнований бюджета поселения по разделам и подразделам классификации расходов бюджета поселения на 2026 год и плановый период 2027 и 2028 годов
A11: ( тыс. рублей)
A12: Наименование разделов и подразделов | B12: Рз | C12: Пр | D12: 2026 | E12: 2027г | F12: 2028г
A14: 1 | B14: 2 | C14: 3 | D14: 4 | E14: 5 | F14: 6
A15: Общегосударственные вопросы | B15: 01 | C15: 00 | D15: =D16+D17 -> 1929.1 | E15: =E16+E17 -> 1929.1 | F15: =F16+F17 -> 1929.1
A16: Функционирование высшего должностного лица субъекта Российской Федерации и муниципального образования | B16: 01 | C16: 02 | D16: ='Приложение 4'!G14 -> 902.7 | E16: ='Приложение 4'!H14 -> 902.7 | F16: ='Приложение 4'!I14 -> 902.7
A17: Функционирование Правительства Российской Федерации, высших исполнительных органов государственной власти субъектов Российской Федерации, местных администраций | B17: 01 | C17: 04 | D17: ='Приложение 4'!G20 -> 1026.4 | E17: ='Приложение 4'!H20 -> 1026.4 | F17: ='Приложение 4'!I20 -> 1026.4
A18: Национальная оборона | B18: 02 | C18: 00 | D18: ='Приложение 4'!G28 -> 253.2 | E18: ='Приложение 4'!H28 -> 282.9 | F18: ='Приложение 4'!I28 -> 361.3
A19: Мобилизационная и вневойсковая подготовка | B19: 02 | C19: 03 | D19: ='Приложение 4'!G28 -> 253.2 | E19: ='Приложение 4'!H28 -> 282.9 | F19: ='Приложение 4'!I28 -> 361.3
A20: Национальная безопасность и правоохранительная деятельность | B20: 03 | C20: 00 | D20: =D21+D22 -> 39.4 | E20: =E21+E22 -> 29.3 | F20: =F21+F22 -> 128.1
A21: Защита населения и территории от чрезвычайных ситуаций природного и техногенного характера, пожарная безопасность | B21: 03 | C21: 10 | D21: ='Приложение 4'!G37 -> 36.4 | E21: ='Приложение 4'!H37 -> 27.3 | F21: ='Приложение 4'!I37 -> 126.1
A22: Другие вопросы в области национальной безопасности и правоохранительной деятельности | B22: 03 | C22: 14 | D22: ='Приложение 4'!G43 -> 3 | E22: ='Приложение 4'!H43 -> 2 | F22: ='Приложение 4'!I43 -> 2
A23: Национальная экономика | B23: 04 | C23: 00 | D23: ='Приложение 4'!G49 -> 876.5 | E23: =E24+E25 -> 1155.3 | F23: =F24+F25 -> 1198.2
A24: Дорожное хозяйство (дорожные фонды) | B24: 04 | C24: 09 | D24: ='Приложение 4'!G50 -> 847.1 | E24: ='Приложение 4'!H50 -> 1125.9 | F24: ='Приложение 4'!I50 -> 1168.8
A25: Другие вопросы в области национальной экономики | B25: 04 | C25: 12 | D25: ='Приложение 4'!G56 -> 29.4 | E25: ='Приложение 4'!H56 -> 29.4 | F25: ='Приложение 4'!I56 -> 29.4
A26: Жилищно-коммунальное хозяйство | B26: 05 | C26: 00 | D26: ='Приложение 4'!G66 -> 194.1 | E26: =E27+E28 -> 121.1 | F26: =F27+F28 -> 9.3
A27: Коммунальное хозяйство | B27: 05 | C27: 02 | D27: ='Приложение 4'!G67 -> 170 | E27: ='Приложение 4'!H67 -> 80.1 | F27: ='Приложение 4'!I67 -> 9.1
A28: Благоустройство | B28: 05 | C28: 03 | D28: ='Приложение 4'!G75 -> 24.1 | E28: ='Приложение 4'!H75 -> 41 | F28: ='Приложение 4'!I75 -> 0.2
A29: Культура, кинематография | B29: 08 | C29: 00 | D29: =D30 -> 1025.1 | E29: =E30 -> 819.2 | F29: =F30 -> 737
A30: Культура | B30: 08 | C30: 01 | D30: ='Приложение 4'!G81 -> 1025.1 | E30: ='Приложение 4'!H81 -> 819.2 | F30: ='Приложение 4'!I81 -> 737
A31: Межбюджетные трансферты общего характера бюджетам бюджетной системы Российской Федерации | B31: 14 | C31: 00 | D31: =D32 -> 555.5 | E31: =E32 -> 555.5 | F31: =F32 -> 555.5
A32: Прочие межбюджетные трансферты общего характера | B32: 14 | C32: 03 | D32: ='Приложение 4'!G92 -> 555.5 | E32: ='Приложение 4'!H92 -> 555.5 | F32: ='Приложение 4'!I92 -> 555.5
A33: Условно утвержденные расходы | D33: 0 | E33: ='Приложение 4'!H103 -> 118.2 | F33: ='Приложение 4'!I103 -> 239.9
A34: ИТОГО РАСХОДОВ | D34: =D16+D17+D18+D20+D23+D26++D29+D31 -> 4872.9 | E34: =E16+E17+E18+E20+E23+E26+E29+E32+E33 -> 5010.6 | F34: =F16+F17+F18+F20+F23+F26+F29+F32+F33 -> 5158.4

Sheet Приложение 4
A1: Приложение № 4
A2: к бюджету муниципального образования
A3: Новоюласенский сельсовет на 2026 год
A4: и плановый период 2027 и 2028 годов
A5: № от .12902,7.2025 г
A6: Ведомственная структура расходов бюджета поселения на 2026 год и плановый период 2027 и 2028 годов
A9: Наименование | B9: Вед | C9: Рз | D9: Пр | E9: ЦСР | F9: ВР | G9: Сумма
G10: 2026 | H10: 2027 | I10: 2028
A11: 1 | B11: 2 | C11: 3 | D11: 4 | E11: 5 | F11: 6 | G11: 7 | H11: 8 | I11: 9
A12: Администрация Новоюласенского сельсовета | B12: 018 | G12: =G13+G28+G49+G81+G92+G36+G66 -> 4872.9 | H12: =H13+H28+H49+H81+H92+H36+H66+H103 -> 5010.6 | I12: =I13+I28+I49+I81+I92+I36+I66+I103 -> 5158.4
A13: Общегосударственные вопросы | B13: 018 | C13: 01 | D13: 00 | G13: =G14+G20 -> 1929.1 | H13: =H14+H20 -> 1929.1 | I13: =I14+I20 -> 1929.1
A14: Функционирование высшего должностного лица субъекта Российской Федерации и муниципального образования | B14: 018 | C14: 01 | D14: 02 | G14: =G15 -> 902.7 | H14: =H15 -> 902.7 | I14: =I15 -> 902.7
A15: Муниципальная программа «Устойчивое развитие территории муниципального образования Новоюласенский сельсовет Красногвардейского района Оренбургской области» | B15: 018 | C15: 01 | D15: 02 | E15: 3100000000 | G15: =G16 -> 902.7 | H15: =H16 -> 902.7 | I15: =I16 -> 902.7
A16: Комплексы процессных мероприятий | B16: 018 | C16: 01 | D16: 02 | E16: 3140000000 | G16: =G17 -> 902.7 | H16: =H17 -> 902.7 | I16: =I17 -> 902.7
A17: Комплексы процессных мероприятий «Обеспечение реализации муниципальной программы «Устойчивое развитие территории муниципального образования Новоюласенский сельсовет Красногвардейского района Оренбургской области» | B17: 018 | C17: 01 | D17: 02 | E17: 3140100000 | G17: =G18 -> 902.7 | H17: =H18 -> 902.7 | I17: =I18 -> 902.7
A18: Глава муниципального образования | B18: 018 | C18: 01 | D18: 02 | E18: 3140110010 | G18: =G19 -> 902.7 | H18: =H19 -> 902.7 | I18: =I19 -> 902.7
A19: Расходы на выплаты персоналу государственных (муниципальных) органов | B19: 018 | C19: 01 | D19: 02 | E19: 3140110010 | F19: 120 | G19: 902.7 | H19: 902.7 | I19: 902.7
A20: Функционирование Правительства Российской Федерации, высших исполнительных органов государственной власти субъектов Российской Федерации, местных администраций | B20: 018 | C20: 01 | D20: 04 | G20: =G21 -> 1026.4 | H20: =H21 -> 1026.4 | I20: =I21 -> 1026.4
A21: Муниципальная программа «Устойчивое развитие территории муниципального образования Новоюласенский сельсовет Красногвардейского района Оренбургской области» | B21: 018 | C21: 01 | D21: 04 | E21: 3100000000 | G21: =G22 -> 1026.4 | H21: =H22 -> 1026.4 | I21: =I22 -> 1026.4
A22: Комплексы процессных мероприятий | B22: 018 | C22: 01 | D22: 04 | E22: 3140000000 | G22: =G23 -> 1026.4 | H22: =H23 -> 1026.4 | I22: =I23 -> 1026.4
A23: Комплексы процессных мероприятий «Обеспечение реализации муниципальной программы «Устойчивое развитие территории муниципального образования Новоюласенский сельсовет Красногвардейского района Оренбургской области» | B23: 018 | C23: 01 | D23: 04 | E23: 3140100000 | G23: =G24 -> 1026.4 | H23: =H24 -> 1026.4 | I23: =I24 -> 1026.4
A24: Центральный аппарат | B24: 018 | C24: 01 | D24: 04 | E24: 3140110020 | G24: =G25+G26+G27 -> 1026.4 | H24: =H25+H26+H27 -> 1026.4 | I24: =I25+I26+I27 -> 1026.4
A25: Расходы на выплаты персоналу государственных (муниципальных) органов | B25: 018 | C25: 01 | D25: 04 | E25: 3140110020 | F25: 120 | G25: 709.7 | H25: 709.7 | I25: 709.7
A26: Иные закупки товаров, работ и услуг для обеспечения государственных (муниципальных) нужд | B26: 018 | C26: 01 | D26: 04 | E26: 3140110020 | F26: 240 | G26: 312 | H26: 312 | I26: 312
A27: Уплата налогов, сборов и иных платежей | B27: 018 | C27: 01 | D27: 04 | E27: 3140110020 | F27: 850 | G27: 4.7 | H27: 4.7 | I27: 4.7
A28: Национальная оборона | B28: 018 | C28: 02 | D28: 00 | G28: =G29 -> 253.2 | H28: =H29 -> 282.9 | I28: =I29 -> 361.3
A29: Мобилизационная и вневойсковая подготовка | B29: 018 | C29: 02 | D29: 03 | G29: =G30 -> 253.2 | H29: =H30 -> 282.9 | I29: =I30 -> 361.3
A30: Муниципальная программа «Устойчивое развитие территории муниципального образования Новоюласенский сельсовет Красногвардейского района Оренбургской области» | B30: 018 | C30: 02 | D30: 03 | E30: 3100000000 | G30: =G31 -> 253.2 | H30: =H31 -> 282.9 | I30: =I31 -> 361.3
A31: Комплексы процессных мероприятий | B31: 018 | C31: 02 | D31: 03 | E31: 3140000000 | G31: =G32 -> 253.2 | H31: =H32 -> 282.9 | I31: =I32 -> 361.3
A32: Комплексы процессных мероприятий «Обеспечение реализации муниципальной программы «Устойчивое развитие территории муниципального образования Новоюласенский сельсовет Красногвардейского района Оренбургской области» | B32: 018 | C32: 02 | D32: 03 | E32: 3140100000 | G32: =G33 -> 253.2 | H32: =H33 -> 282.9 | I32: =I33 -> 361.3
A33: Субвенции на осуществление первичного воинского учета органами местного самоуправления поселений, муниципальных и городских округов | B33: 018 | C33: 02 | D33: 03 | E33: 3140151180 | G33: =G34+G35 -> 253.2 | H33: =H34+H35 -> 282.9 | I33: =I34+I35 -> 361.3
A34: Расходы на выплаты персоналу государственных (муниципальных) органов | B34: 018 | C34: 02 | D34: 03 | E34: 3140151180 | F34: 120 | G34: 219.6 | H34: 249.3 | I34: 327.7
A35: Иные закупки товаров, работ и услуг для обеспечения государственных (муниципальных) нужд | B35: 018 | C35: 02 | D35: 03 | E35: 3140151180 | F35: 240 | G35: 33.6 | H35: 33.6 | I35: 33.6
A36: Национальная безопасность и правоохранительная деятельность | B36: 018 | C36: 03 | D36: 00 | G36: =G37+G43 -> 39.4 | H36: =H37+H43 -> 29.3 | I36: =I37+I43 -> 128.1
A37: Защита населения и территории от чрезвычайных ситуаций природного и техногенногохарактера, пожарная безопасность | B37: 018 | C37: 03 | D37: 10 | G37: =G38 -> 36.4 | H37: =H38 -> 27.3 | I37: =I38 -> 126.1
A38: Муниципальная программа «Устойчивое развитие территории муниципального образования Новоюласенский сельсовет Красногвардейского района Оренбургской области» | B38: 018 | C38: 03 | D38: 10 | E38: 3100000000 | G38: =G39 -> 36.4 | H38: =H39 -> 27.3 | I38: =I39 -> 126.1
A39: Комплексы процессных мероприятий | B39: 018 | C39: 03 | D39: 10 | E39: 3140000000 | G39: =G40 -> 36.4 | H39: =H40 -> 27.3 | I39: =I40 -> 126.1
A40: Комплексы процессных мероприятий «Обеспечение безопасности жизнедеятельности населения в муниципальном образовании Новоюласенский сельсовет Красногвардейского района Оренбургской области» | B40: 018 | C40: 03 | D40: 10 | E40: 3140300000 | G40: =G41 -> 36.4 | H40: =H41 -> 27.3 | I40: =I41 -> 126.1
A41: Разработка и утверждение комплекса мер по обеспечению пожарной безопасности муниципальных учреждений и жилищного фонда | B41: 018 | C41: 03 | D41: 10 | E41: 3140360080 | G41: =G42 -> 36.4 | H41: =H42 -> 27.3 | I41: =I42 -> 126.1
A42: Иные закупки товаров, работ и услуг для обеспечения государственных (муниципальных) нужд | B42: 018 | C42: 03 | D42: 10 | E42: 3140360080 | F42: 240 | G42: 36.4 | H42: 27.3 | I42: 126.1
...

Sheet Приложение 5
A1: Приложение № 5
A2: к бюджету муниципального образования
A3: Новоюласенский сельсовет на 2026 год
A4: и плановый период 2027 и 2028 годов
A5: № от .12.2025 г
A6: Распределение бюджетных ассигнований бюджета поселения по разделам и подразделам, целевым статьям (муниципальным программам и непрограммным направлениям деятельности), группам и подгруппам видов расходов классификации расходов на 2026 год и плановый период 2027 и 2028 годов
A8: (тысяч рублей)
A9: Наименование | B9: Рз | C9: Пр | D9: ЦСР | E9: ВР | F9: Сумма
F10: 2026 | G10: 2027 | H10: 2028
A11: 1 | B11: 2 | C11: 3 | D11: 4 | E11: 5 | F11: 6 | G11: 7 | H11: 8
A13: Общегосударственные вопросы | B13: 01 | C13: 00 | F13: =F14+F20 -> 1929.1 | G13: =G14+G20 -> 1929.1 | H13: =H14+H20 -> 1929.1
A14: Функционирование высшего должностного лица субъекта Российской Федерации и муниципального образования | B14: 01 | C14: 02 | F14: =F15 -> 902.7 | G14: =G15 -> 902.7 | H14: =H15 -> 902.7
A15: Муниципальная программа «Устойчивое развитие территории муниципального образования Новоюласенский сельсовет Красногвардейского района Оренбургской области» | B15: 01 | C15: 02 | D15: 3100000000 | F15: =F16 -> 902.7 | G15: =G16 -> 902.7 | H15: =H16 -> 902.7
A16: Комплексы процессных мероприятий | B16: 01 | C16: 02 | D16: 3140000000 | F16: =F17 -> 902.7 | G16: =G17 -> 902.7 | H16: =H17 -> 902.7
A17: Комплексы процессных мероприятий «Обеспечение реализации муниципальной программы «Устойчивое развитие территории муниципального образования Новоюласенский сельсовет Красногвардейского района Оренбургской области» | B17: 01 | C17: 02 | D17: 3140100000 | F17: =F18 -> 902.7 | G17: =G18 -> 902.7 | H17: =H18 -> 902.7
A18: Глава муниципального образования | B18: 01 | C18: 02 | D18: 3140110010 | F18: =F19 -> 902.7 | G18: =G19 -> 902.7 | H18: =H19 -> 902.7
A19: Расходы на выплаты персоналу государственных (муниципальных) органов | B19: 01 | C19: 02 | D19: 3140110010 | E19: 120 | F19: ='Приложение 4'!G19 -> 902.7 | G19: ='Приложение 4'!H19 -> 902.7 | H19: ='Приложение 4'!I19 -> 902.7
A20: Функционирование Правительства Российской Федерации, высших исполнительных органов государственной власти субъектов Российской Федерации, местных администраций | B20: 01 | C20: 04 | F20: =F21 -> 1026.4 | G20: =G21 -> 1026.4 | H20: =H21 -> 1026.4
A21: Муниципальная программа «Устойчивое развитие территории муниципального образования Новоюласенский сельсовет Красногвардейского района Оренбургской области» | B21: 01 | C21: 04 | D21: 3100000000 | F21: =F22 -> 1026.4 | G21: =G22 -> 1026.4 | H21: =H22 -> 1026.4
A22: Комплексы процессных мероприятий | B22: 01 | C22: 04 | D22: 3140000000 | F22: =F23 -> 1026.4 | G22: =G23 -> 1026.4 | H22: =H23 -> 1026.4
A23: Комплексы процессных мероприятий «Обеспечение реализации муниципальной программы «Устойчивое развитие территории муниципального образования Новоюласенский сельсовет Красногвардейского района Оренбургской области» | B23: 01 | C23: 04 | D23: 3140100000 | F23: =F24 -> 1026.4 | G23: =G24 -> 1026.4 | H23: =H24 -> 1026.4
A24: Центральный аппарат | B24: 01 | C24: 04 | D24: 3140110020 | F24: =F25+F26+F27 -> 1026.4 | G24: =G25+G26+G27 -> 1026.4 | H24: =H25+H26+H27 -> 1026.4
A25: Расходы на выплаты персоналу государственных (муниципальных) органов | B25: 01 | C25: 04 | D25: 3140110020 | E25: 120 | F25: ='Приложение 4'!G25 -> 709.7 | G25: ='Приложение 4'!H25 -> 709.7 | H25: ='Приложение 4'!I25 -> 709.7
A26: Иные закупки товаров, работ и услуг для обеспечения государственных (муниципальных) нужд | B26: 01 | C26: 04 | D26: 3140110020 | E26: 240 | F26: ='Приложение 4'!G26 -> 312 | G26: ='Приложение 4'!H26 -> 312 | H26: ='Приложение 4'!I26 -> 312
A27: Исполнение судебных актов | B27: 01 | C27: 04 | D27: 3140110020 | E27: 850 | F27: ='Приложение 4'!G27 -> 4.7 | G27: ='Приложение 4'!H27 -> 4.7 | H27: ='Приложение 4'!I27 -> 4.7
A28: Национальная оборона | B28: 02 | C28: 00 | F28: =F29 -> 253.2 | G28: =G29 -> 282.9 | H28: =H29 -> 361.3
A29: Мобилизационная и вневойсковая подготовка | B29: 02 | C29: 03 | F29: =F30 -> 253.2 | G29: =G30 -> 282.9 | H29: =H30 -> 361.3
A30: Муниципальная программа «Устойчивое развитие территории муниципального образования» | B30: 02 | C30: 03 | D30: 3100000000 | F30: =F31 -> 253.2 | G30: =G31 -> 282.9 | H30: =H31 -> 361.3
A31: Комплексы процессных мероприятий | B31: 02 | C31: 03 | D31: 3140000000 | F31: =F32 -> 253.2 | G31: =G32 -> 282.9 | H31: =H32 -> 361.3
A32: Комплексы процессных мероприятий «Обеспечение реализации муниципальной программы «Устойчивое развитие территории муниципального образования Новоюласенский сельсовет Красногвардейского района Оренбургской области» | B32: 02 | C32: 03 | D32: 3140100000 | F32: =F33 -> 253.2 | G32: =G33 -> 282.9 | H32: =H33 -> 361.3
A33: Субвенции на осуществление первичного воинского учета органами местного самоуправления поселений, муниципальных и городских округов | B33: 02 | C33: 03 | D33: 3140151180 | F33: =F34+F35 -> 253.2 | G33: =G34+G35 -> 282.9 | H33: =H34+H35 -> 361.3
A34: Расходы на выплаты персоналу государственных (муниципальных) органов | B34: 02 | C34: 03 | D34: 3140151180 | E34: 120 | F34: ='Приложение 4'!G34 -> 219.6 | G34: ='Приложение 4'!H34 -> 249.3 | H34: ='Приложение 4'!I34 -> 327.7
A35: Иные закупки товаров, работ и услуг для обеспечения государственных (муниципальных) нужд | B35: 02 | C35: 03 | D35: 3140151180 | E35: 240 | F35: ='Приложение 4'!G35 -> 33.6 | G35: ='Приложение 4'!H35 -> 33.6 | H35: ='Приложение 4'!I35 -> 33.6
A36: Национальная безопасность и правоохранительная деятельность | B36: 03 | C36: 00 | F36: =F37+F43 -> 39.4 | G36: =+G37+G43 -> 29.3 | H36: =H37+H43 -> 128.1
A37: Защита населения и территории от чрезвычайных ситуаций природного и техногенногохарактера, пожарная безопасность | B37: 03 | C37: 10 | F37: =F38 -> 36.4 | G37: =G38 -> 27.3 | H37: =H38 -> 126.1
A38: Муниципальная программа «Устойчивое развитие территории муниципального образования Новоюласенский сельсовет Красногвардейского района Оренбургской области» | B38: 03 | C38: 10 | D38: 3100000000 | F38: =F39 -> 36.4 | G38: =G39 -> 27.3 | H38: =H39 -> 126.1
A39: Комплексы процессных мероприятий | B39: 03 | C39: 10 | D39: 3140000000 | F39: =F40 -> 36.4 | G39: =G40 -> 27.3 | H39: =H40 -> 126.1
A40: Комплексы процессных мероприятий «Обеспечение безопасности жизнедеятельности населения в муниципальном образовании Новоюласенский сельсовет Красногвардейского района Оренбургской области» | B40: 03 | C40: 10 | D40: 3140300000 | F40: =F41 -> 36.4 | G40: =G41 -> 27.3 | H40: =H41 -> 126.1
A41: Разработка и утверждение комплекса мер по обеспечению пожарной безопасности муниципальных учреждений и жилищного фонда | B41: 03 | C41: 10 | D41: 3140360080 | F41: =F42 -> 36.4 | G41: =G42 -> 27.3 | H41: =H42 -> 126.1
A42: Иные закупки товаров, работ и услуг для обеспечения государственных (муниципальных) нужд | B42: 03 | C42: 10 | D42: 3140360080 | E42: 240 | F42: ='Приложение 4'!G42 -> 36.4 | G42: ='Приложение 4'!H42 -> 27.3 | H42: ='Приложение 4'!I42 -> 126.1
...

Sheet Приложение 6
A1: Приложение № 6
A2: к бюджету муниципального образования
A3: Новоюласенский сельсовет на 2026 год
A4: и плановый период 2027 и 2028 годов
A5: № от .12.2025 г
A6: Распределение бюджетных ассигнований бюджета поселения по целевым статьям(муниципальным программам и непрограммным направлениям деятельности), разделам, подразделам, группам и подгруппам видов расходов классификации расходов на 2026 год и на плановый период 2027 и 2028 годов
G9: (тысяч рублей)
A10: Наименование | B10: ЦСР | C10: РЗ | D10: ПР | E10: ВР | F10: 2026 | G10: 2027 | H10: 2028
A11: 1 | B11: 2 | C11: 3 | D11: 4 | E11: 5 | F11: 6 | G11: 7 | H11: 8
A12: Муниципальная программа "Устойчивое развитие территории муниципального образования Новоюласенский сельсовет Красногвардейского района Оренбургской области" | B12: 3100000000 | F12: =F13 -> 3831.7 | G12: =G13 -> 3645.4 | H12: =H13 -> 3740.4
A13: Комплексы процессных мероприятий | B13: 3140000000 | F13: =F14+F30+F37+F41 -> 3831.7 | G13: =G14+G30+G37+G41 -> 3645.4 | H13: =H14+H31+H33+H35+H41+H37 -> 3740.4
A14: Комплексы процессных мероприятий «Обеспечение реализации муниципальной программы «Устойчивое развитие территории муниципального образования Новоюласенский сельсовет Красногвардейского района Оренбургской области» | B14: 3140100000 | F14: =F16+F17+F21+F25+F27+F29 -> 2737.8 | G14: =G15+G17+G21+G26+G28+G25 -> 2767.5 | H14: =H15+H17+H21+H26+H28+H25 -> 2845.9
A15: Глава муниципального образования | B15: 3140110010 | F15: ='Приложение 4'!G18 -> 902.7 | G15: ='Приложение 4'!H18 -> 902.7 | H15: ='Приложение 4'!I18 -> 902.7
A16: Расходы на выплаты персоналу государственных (муниципальных) органов | B16: 3140110010 | C16: 01 | D16: 02 | E16: 120 | F16: ='Приложение 4'!G19 -> 902.7 | G16: ='Приложение 4'!H19 -> 902.7 | H16: ='Приложение 4'!I19 -> 902.7
A17: Центральный аппарат | B17: 3140110020 | F17: ='Приложение 4'!G24 -> 1026.4 | G17: ='Приложение 4'!H24 -> 1026.4 | H17: ='Приложение 4'!I24 -> 1026.4
A18: Расходы на выплаты персоналу государственных (муниципальных) органов | B18: 3140110020 | C18: 01 | D18: 04 | E18: 120 | F18: ='Приложение 4'!G25 -> 709.7 | G18: ='Приложение 4'!H25 -> 709.7 | H18: ='Приложение 4'!I25 -> 709.7
A19: Иные закупки товаров, работ и услуг для обеспечения государственных (муниципальных) нужд | B19: 3140110020 | C19: 01 | D19: 04 | E19: 240 | F19: ='Приложение 4'!G26 -> 312 | G19: ='Приложение 4'!H26 -> 312 | H19: ='Приложение 4'!I26 -> 312
A20: Уплата налогов, сборов и иных платежей | B20: 3140110020 | C20: 01 | D20: 04 | E20: 850 | F20: ='Приложение 4'!G27 -> 4.7 | G20: ='Приложение 4'!H27 -> 4.7 | H20: ='Приложение 4'!I27 -> 4.7
A21: Субвенции на осуществление первичного воинского учета органами местного самоуправления поселений, муниципальных и городских округов | B21: 3140151180 | F21: ='Приложение 4'!G33 -> 253.2 | G21: ='Приложение 4'!H33 -> 282.9 | H21: ='Приложение 4'!I33 -> 361.3
A22: Расходы на выплаты персоналу государственных (муниципальных) органов | B22: 3140151180 | C22: 02 | D22: 03 | E22: 120 | F22: ='Приложение 4'!G34 -> 219.6 | G22: ='Приложение 4'!H34 -> 249.3 | H22: ='Приложение 4'!I34 -> 327.7
A23: Иные закупки товаров, работ и услуг для обеспечения государственных (муниципальных) нужд | B23: 3140151180 | C23: 02 | D23: 03 | E23: 240 | F23: ='Приложение 4'!G35 -> 33.6 | G23: ='Приложение 4'!H35 -> 33.6 | H23: ='Приложение 4'!I35 -> 33.6
A24: Межбюджетные трансферты бюджетам муниципальных районов из бюджетов поселений на осуществление части полномочий по решению вопросов местного значения в соответствии с заключенными соглашениями (внешний муниципальный финансовый контроль) | B24: 3140161010 | F24: =F25 -> 15.3 | G24: =G25 -> 15.3 | H24: =H25 -> 15.3
A25: Иные межбюджетные трансферты | B25: 3140161010 | C25: 14 | D25: 03 | E25: 540 | F25: ='Приложение 4'!G98 -> 15.3 | G25: ='Приложение 4'!H98 -> 15.3 | H25: ='Приложение 4'!I98 -> 15.3
A26: Межбюджетные трансферты бюджетам муниципальных районов из бюджетов поселений на осуществление части полномочий по решению вопросов местного значения в соответствии с заключенными соглашениями (составление проекта бюджета поселения, исполнение бюджета поселения, осуществление контроля за его исполнением, составление отчета об исполнении бюджета поселения) | B26: 3140161040 | C26: 14 | D26: 03 | F26: ='Приложение 4'!G99 -> 540 | G26: ='Приложение 4'!H99 -> 540 | H26: ='Приложение 4'!I99 -> 540
A27: Иные межбюджетные трансферты | B27: 3140161040 | C27: 14 | D27: 03 | E27: 540 | F27: ='Приложение 4'!G99 -> 540 | G27: ='Приложение 4'!H99 -> 540 | H27: ='Приложение 4'!I99 -> 540
A28: Межбюджетные трансферты бюджетам муниципальных районов из бюджетов поселений на осуществление части полномочий по решению вопросов местного значения в соответствии с заключенными соглашениями (по формированию и обеспечению деятельности комиссии по соблюдению требований к служебному поведению муниципальных служащих и урегулированию конфликта интересов) | B28: 3140161050 | C28: 14 | D28: 03 | F28: ='Приложение 4'!G101 -> 0.2 | G28: ='Приложение 4'!H101 -> 0.2 | H28: ='Приложение 4'!I101 -> 0.2
A29: Иные межбюджетные трансферты | B29: 3140161050 | C29: 14 | D29: 03 | E29: 540 | F29: ='Приложение 4'!G102 -> 0.2 | G29: ='Приложение 4'!H102 -> 0.2 | H29: ='Приложение 4'!I102 -> 0.2
A30: Комплексы процессных мероприятий " Управление муниципальным имуществом, мероприятия по землеустройству и землепользованию в муниципальном образовании" | B30: 3140200000 | C30: 04 | D30: 12 | F30: =F31+F35+F33 -> 29.4 | G30: =G31+G33+G35 -> 29.4 | H30: =H31+H33+H35 -> 29.4
A31: Оценка земельных участков, комплекс кадастровых работ по подготовке документов для постановке на государственный кадастровый учет земельных участков, недвижимого имущества | B31: 3140260280 | F31: ='Приложение 4'!G60 -> 1 | G31: ='Приложение 4'!H60 -> 1 | H31: ='Приложение 4'!I60 -> 1
A32: Иные закупки товаров, работ и услуг для обеспечения государственных (муниципальных) нужд | B32: 3140260280 | C32: 04 | D32: 12 | E32: 240 | F32: ='Приложение 4'!G61 -> 1 | G32: ='Приложение 4'!H61 -> 1 | H32: ='Приложение 4'!I61 -> 1
A33: Межбюджетные трансферты бюджетам муниципальных районов из бюджетов поселений на осуществление части полномочий по решению вопросов местного значения в соответствии с заключенными соглашениями (осуществление муниципального земельного контроля) | B33: 3140261070 | F33: ='Приложение 4'!G62 -> 27.9 | G33: ='Приложение 4'!H62 -> 27.9 | H33: ='Приложение 4'!I62 -> 27.9
A34: Иные межбюджетные трансферты | B34: 3140261070 | C34: 04 | D34: 12 | E34: 540 | F34: ='Приложение 4'!G63 -> 27.9 | G34: ='Приложение 4'!H63 -> 27.9 | H34: ='Приложение 4'!I63 -> 27.9
A35: Межбюджетные трансферты бюджетам муниципальных районов на осуществление части полномочий администрации поселения по развитию системы градорегулирования в муниципальном образовании | B35: 3140261080 | F35: ='Приложение 4'!G64 -> 0.5 | G35: ='Приложение 4'!H64 -> 0.5 | H35: ='Приложение 4'!I64 -> 0.5
A36: Иные межбюджетные трансферты | B36: 3140261080 | C36: 04 | D36: 12 | E36: 540 | F36: ='Приложение 4'!G65 -> 0.5 | G36: ='Приложение 4'!H65 -> 0.5 | H36: ='Приложение 4'!I65 -> 0.5
A37: Комплексы процессных мероприятий «Обеспечение безопасности жизнедеятельности населения в муниципальном образовании Новоюласенский сельсовет Красногвардейского района Оренбургской области» | B37: 3140300000 | F37: =F38 -> 39.4 | G37: =G38+G40 -> 29.3 | H37: =H38+H40 -> 128.1
A38: Разработка и утверждение комплекса мер по обеспечению пожарной безопасности муниципальных учреждений и жилищного фонда | B38: 3140360080 | F38: =F39+F40 -> 39.4 | G38: ='Приложение 4'!H41 -> 27.3 | H38: ='Приложение 4'!I41 -> 126.1
A39: Иные закупки товаров, работ и услуг для обеспечения государственных (муниципальных) нужд | B39: 3140360080 | C39: 03 | D39: 10 | E39: 240 | F39: ='Приложение 4'!G42 -> 36.4 | G39: ='Приложение 4'!H42 -> 27.3 | H39: ='Приложение 4'!I42 -> 126.1
A40: Иные закупки товаров, работ и услуг для обеспечения государственных (муниципальных) нужд | B40: 3140360090 | C40: 03 | D40: 14 | E40: 240 | F40: ='Приложение 4'!G48 -> 3 | G40: ='Приложение 4'!H48 -> 2 | H40: ='Приложение 4'!I48 -> 2
A41: Комплексы процессных мероприятий «Развитие культуры в муниципальном образовании Новоюласенский сельсовет Красногвардейского района Оренбургской области» | B41: 3140400000 | F41: =F45+F43+F47 -> 1025.1 | G41: =G43+G45+G47 -> 819.2 | H41: =H43+H45+H47 -> 737
A42: Мероприятия в сфере культуры и кинематографии | B42: 3140460210 | F42: =F43 -> 4 | G42: =G43 -> 0 | H42: =H43 -> 0
...

Sheet Приложение 7
A1: Приложение № 7 к бюджету муниципального образования Новоюласенский сельсовет на 2026 год и плановый период 2027 и 2028 годов № от .12.2025 г
A2: Межбюджетные трансферты, передаваемые в районный бюджет из бюджета поселения на осуществление части полномочий по решению вопросов местного значения в соответствии с заключенными соглашениями на 2026 год и плановый период 2027 и 2028 годов
A5: № п/п | B5: Наименование межбюджетного трансферта | C5: 2026 | D5: 2027 | E5: 2028
A6: 1 | B6: 2 | C6: 3 | D6: 4 | E6: 5
A7: 1. | B7: Межбюджетные трансферты бюджетам муниципальных районов из бюджетов поселений на осуществление части полномочий по решению вопросов местного значения в соответствии с заключенными соглашениями (внешний муниципальный финансовый контроль) | C7: ='Приложение 4'!G98 -> 15.3 | D7: ='Приложение 4'!H98 -> 15.3 | E7: ='Приложение 4'!I98 -> 15.3
A8: 2. | B8: Межбюджетные трансферты бюджетам муниципальных районов из бюджетов поселений на осуществление части полномочий по решению вопросов местного значения в соответствии с заключенными соглашениями (составление и рассмотрение проектов бюджета поселения, утверждение и исполнение бюджета поселения, осуществление контроля за его исполнением, составление и утверждение отчета об исполнении бюджета поселения) | C8: ='Приложение 4'!G100 -> 540 | D8: ='Приложение 4'!H100 -> 540 | E8: ='Приложение 4'!I100 -> 540
A9: 3. | B9: Межбюджетные трансферты бюджетам муниципальных районов из бюджетов поселений на осуществление части полномочий по решению вопросов местного значения, в соответствии с заключенными соглашениями (услуги организации культуры) | C9: ='Приложение 4'!G91 -> 425.5 | D9: ='Приложение 4'!H91 -> 425.5 | E9: ='Приложение 4'!I91 -> 425.5
A10: 4. | B10: Межбюджетные трансферты бюджетам муниципальных районов из бюджетов поселений на осуществление части полномочий по решению вопросов местного значения в соответствии с заключенными соглашениями (по формированию и обеспечению деятельности комиссии по соблюдению требований к служебному поведению муниципальных служащих и урегулированию конфликта интересов) | C10: ='Приложение 4'!G102 -> 0.2 | D10: ='Приложение 4'!H102 -> 0.2 | E10: ='Приложение 4'!I102 -> 0.2
A11: 5. | B11: Межбюджетные трансферты бюджетам муниципальных районов из бюджетов поселений на осуществление части полномочий по решению вопросов местного значения в соответствии с заключенными соглашениями (осуществление муниципального земельного контроля) | C11: ='Приложение 4'!G63 -> 27.9 | D11: ='Приложение 4'!H63 -> 27.9 | E11: ='Приложение 4'!I63 -> 27.9
A12: 6. | B12: Межбюджетные трансферты бюджетам муниципальных районов на осуществление части полномочий администрации поселения по развитию системы градорегулирования в муниципальном образовании | C12: ='Приложение 4'!G64 -> 0.5 | D12: ='Приложение 4'!H64 -> 0.5 | E12: ='Приложение 4'!I64 -> 0.5
B13: ИТОГО: | C13: =SUM(C7:C12) -> 1009.4 | D13: =D7+D8+D9+D10+D11+D12 -> 1009.4 | E13: =E7+E8+E9+E10+E11+E12 -> 1009.4

Sheet Приложение 9
A1: Приложение № 9
A2: к бюджету муниципального образования
A3: Новоюласенский сельсовет на 2026 год
A4: и плановый период 2027 и 2028 годов
E5: № от .12.2025
A6: Программа
A7: муниципальных внутренних заимствований
A8: на 2026 год и плановый период 2027 и 2028 годов
A10: Наименование | B10: 2026 год | C10: Предельный срок погашения долговых обязательств | D10: 2027 год | E10: Предельный срок погашения долговых обязательств 2027 года | F10: 2028 год | G10: Предельный срок погашения долговых обязательств
C11: 2026года | G11: 2028 года
A12: 1 | B12: 2 | C12: 3 | D12: 4 | E12: 5 | F12: 6 | G12: 7
A13: Муниципальные ценные бумаги | B13: 0 | D13: 0 | F13: 0
A14: 1. Размещение муниципальных ценных бумаг | B14: 0 | D14: 0 | F14: 0
A15: 2. Погашение муниципальных ценных бумаг | B15: 0 | D15: 0 | F15: 0
A16: Кредиты от кредитных организаций | B16: 0 | D16: 0 | F16: 0
A17: 1. Привлечение кредитов от кредитных организаций | B17: 0 | D17: 0 | F17: 0
A18: 2. Погашение кредитов, привлеченных от кредитных организаций | B18: 0 | D18: 0 | F18: 0
A19: Бюджетные кредиты из других бюджетов бюджетной системы Российской Федерации | B19: 0 | D19: 0 | F19: 0
A20: 1. Привлечение бюджетных кредитов из других бюджетов бюджетной системы Российской Федерации | B20: 0 | D20: 0 | F20: 0
A21: 1.1. Бюджетные кредиты, предоставленные для частичного покрытия дефицита муниципального образования Новоюласенский сельсовет, возврат которых осуществляется муниципальным образованием Новоюласенский сельсовет | B21: 0 | D21: 0 | F21: 0
A22: 1.2. Бюджетные кредиты, предоставленные для частичного покрытия временных кассовых разрывов, возникающих при исполнении бюджета муниципального образования Новоюласенский сельсовет | B22: 0 | D22: 0 | F22: 0
A23: 2. Погашение бюджетных кредитов, привлеченных из других бюджетов бюджетной системы Российской Федерации | B23: 0 | D23: 0 | F23: 0
A24: 2.1. Бюджетные кредиты, предоставленные для частичного покрытия дефицита муниципального образования Новоюласенский сельсовет, возврат которых осуществляется муниципальным образованием Новоюласенский сельсовет | B24: 0 | D24: 0 | F24: 0
A25: 2.2 Бюджетные кредиты, предоставленные для частичного покрытия временных кассовых разрывов, возникающих при исполнении бюджета муниципального образования Новоюласенский сельсовет | B25: 0 | D25: 0 | F25: 0

Sheet Лист1
